BEGIN:VCALENDAR
VERSION:2.0
PRODID:-//Desert Survivors - ECPv6.15.20//NONSGML v1.0//EN
CALSCALE:GREGORIAN
METHOD:PUBLISH
X-ORIGINAL-URL:https://desertsurvivors.org
X-WR-CALDESC:Events for Desert Survivors
REFRESH-INTERVAL;VALUE=DURATION:PT1H
X-Robots-Tag:noindex
X-PUBLISHED-TTL:PT1H
BEGIN:VTIMEZONE
TZID:UTC
BEGIN:STANDARD
TZOFFSETFROM:+0000
TZOFFSETTO:+0000
TZNAME:UTC
DTSTART:20240101T000000
END:STANDARD
END:VTIMEZONE
BEGIN:VEVENT
DTSTART;TZID=UTC:20250704T000000
DTEND;TZID=UTC:20250705T235959
DTSTAMP:20260423T074326
CREATED:20241230T204904Z
LAST-MODIFIED:20250411T185938Z
UID:3238-1751587200-1751759999@desertsurvivors.org
SUMMARY:CLOSED FOR INDEPENDENCE DAY
DESCRIPTION:
URL:https://desertsurvivors.org/event/independence-day/
END:VEVENT
END:VCALENDAR