BEGIN:VCALENDAR
VERSION:2.0
PRODID:-//Desert Survivors - ECPv6.15.20//NONSGML v1.0//EN
CALSCALE:GREGORIAN
METHOD:PUBLISH
X-WR-CALNAME:Desert Survivors
X-ORIGINAL-URL:https://desertsurvivors.org
X-WR-CALDESC:Events for Desert Survivors
REFRESH-INTERVAL;VALUE=DURATION:PT1H
X-Robots-Tag:noindex
X-PUBLISHED-TTL:PT1H
BEGIN:VTIMEZONE
TZID:UTC
BEGIN:STANDARD
TZOFFSETFROM:+0000
TZOFFSETTO:+0000
TZNAME:UTC
DTSTART:20240101T000000
END:STANDARD
END:VTIMEZONE
BEGIN:VEVENT
DTSTART;TZID=UTC:20251004T080000
DTEND;TZID=UTC:20251011T160000
DTSTAMP:20260423T025207
CREATED:20250220T094518Z
LAST-MODIFIED:20250411T190556Z
UID:3310-1759564800-1760198400@desertsurvivors.org
SUMMARY:FALL SALE
DESCRIPTION:
URL:https://desertsurvivors.org/event/fall-sale/
END:VEVENT
BEGIN:VEVENT
DTSTART;TZID=UTC:20251004T080000
DTEND;TZID=UTC:20251011T160000
DTSTAMP:20260423T025207
CREATED:20250908T114532Z
LAST-MODIFIED:20250908T114554Z
UID:3770-1759564800-1760198400@desertsurvivors.org
SUMMARY:Fall Plant Sale
DESCRIPTION:
URL:https://desertsurvivors.org/event/fall-plant-sale-2/
ATTACH;FMTTYPE=image/png:https://desertsurvivors.org/wp-content/uploads/2025/09/Screenshot-2025-09-08-at-1.44.18-PM.png
END:VEVENT
END:VCALENDAR