BEGIN:VCALENDAR
VERSION:2.0
PRODID:-//Desert Survivors - ECPv6.15.20//NONSGML v1.0//EN
CALSCALE:GREGORIAN
METHOD:PUBLISH
X-WR-CALNAME:Desert Survivors
X-ORIGINAL-URL:https://desertsurvivors.org
X-WR-CALDESC:Events for Desert Survivors
REFRESH-INTERVAL;VALUE=DURATION:PT1H
X-Robots-Tag:noindex
X-PUBLISHED-TTL:PT1H
BEGIN:VTIMEZONE
TZID:UTC
BEGIN:STANDARD
TZOFFSETFROM:+0000
TZOFFSETTO:+0000
TZNAME:UTC
DTSTART:20250101T000000
END:STANDARD
END:VTIMEZONE
BEGIN:VEVENT
DTSTART;TZID=UTC:20260119T000000
DTEND;TZID=UTC:20260119T235959
DTSTAMP:20260422T211511
CREATED:20251204T112547Z
LAST-MODIFIED:20251212T120843Z
UID:4010-1768780800-1768867199@desertsurvivors.org
SUMMARY:CLOSED -MARTIN LUTHER KING JR
DESCRIPTION:We will be closed
URL:https://desertsurvivors.org/event/martin-luther-king-jr-2/
END:VEVENT
END:VCALENDAR