BEGIN:VCALENDAR
VERSION:2.0
PRODID:-//Desert Survivors - ECPv6.15.20//NONSGML v1.0//EN
CALSCALE:GREGORIAN
METHOD:PUBLISH
X-WR-CALNAME:Desert Survivors
X-ORIGINAL-URL:https://desertsurvivors.org
X-WR-CALDESC:Events for Desert Survivors
REFRESH-INTERVAL;VALUE=DURATION:PT1H
X-Robots-Tag:noindex
X-PUBLISHED-TTL:PT1H
BEGIN:VTIMEZONE
TZID:UTC
BEGIN:STANDARD
TZOFFSETFROM:+0000
TZOFFSETTO:+0000
TZNAME:UTC
DTSTART:20240101T000000
END:STANDARD
END:VTIMEZONE
BEGIN:VEVENT
DTSTART;TZID=UTC:20251101T100000
DTEND;TZID=UTC:20251101T150000
DTSTAMP:20260422T230152
CREATED:20250220T094710Z
LAST-MODIFIED:20251020T094925Z
UID:3312-1761991200-1762009200@desertsurvivors.org
SUMMARY:DAY OF THE DEAD
DESCRIPTION:Dia De Los Muertos E-S 2025 (2)Download
URL:https://desertsurvivors.org/event/day-of-the-dead/
ATTACH;FMTTYPE=image/jpeg:https://desertsurvivors.org/wp-content/uploads/2025/02/Dia-de-los-muertos.jpg
END:VEVENT
BEGIN:VEVENT
DTSTART;TZID=UTC:20251114T080000
DTEND;TZID=UTC:20251114T170000
DTSTAMP:20260422T230152
CREATED:20251110T113308Z
LAST-MODIFIED:20251110T113310Z
UID:3946-1763107200-1763139600@desertsurvivors.org
SUMMARY:Perspectives on Disability
DESCRIPTION:DPD Art FlyerDownload
URL:https://desertsurvivors.org/event/perspectives-on-disability-2/
ATTACH;FMTTYPE=image/jpeg:https://desertsurvivors.org/wp-content/uploads/2025/11/prespectives-of-disabilites-scaled.jpg
END:VEVENT
BEGIN:VEVENT
DTSTART;TZID=UTC:20251127T000000
DTEND;TZID=UTC:20251129T235959
DTSTAMP:20260422T230152
CREATED:20241230T205337Z
LAST-MODIFIED:20250411T185851Z
UID:3242-1764201600-1764460799@desertsurvivors.org
SUMMARY:CLOSED FOR THANKSGIVING DAY
DESCRIPTION:
URL:https://desertsurvivors.org/event/thanksgiving-day/
END:VEVENT
END:VCALENDAR