BEGIN:VCALENDAR
VERSION:2.0
PRODID:-//Desert Survivors - ECPv6.15.20//NONSGML v1.0//EN
CALSCALE:GREGORIAN
METHOD:PUBLISH
X-ORIGINAL-URL:https://desertsurvivors.org
X-WR-CALDESC:Events for Desert Survivors
REFRESH-INTERVAL;VALUE=DURATION:PT1H
X-Robots-Tag:noindex
X-PUBLISHED-TTL:PT1H
BEGIN:VTIMEZONE
TZID:UTC
BEGIN:STANDARD
TZOFFSETFROM:+0000
TZOFFSETTO:+0000
TZNAME:UTC
DTSTART:20250101T000000
END:STANDARD
END:VTIMEZONE
BEGIN:VEVENT
DTSTART;TZID=UTC:20261005T080000
DTEND;TZID=UTC:20261010T170000
DTSTAMP:20260422T225638
CREATED:20251204T113726Z
LAST-MODIFIED:20251204T113748Z
UID:4032-1791187200-1791651600@desertsurvivors.org
SUMMARY:Fall sale
DESCRIPTION:
URL:https://desertsurvivors.org/event/fall-sale-2/
END:VEVENT
BEGIN:VEVENT
DTSTART;TZID=UTC:20261012T000000
DTEND;TZID=UTC:20261012T235959
DTSTAMP:20260422T225638
CREATED:20251204T113125Z
LAST-MODIFIED:20260402T013356Z
UID:4018-1791763200-1791849599@desertsurvivors.org
SUMMARY:CLOSED FOR INDIGENOUS PEOPLE DAY
DESCRIPTION:We will be closed
URL:https://desertsurvivors.org/event/indigenous-people-day/
END:VEVENT
BEGIN:VEVENT
DTSTART;TZID=UTC:20261031T000000
DTEND;TZID=UTC:20261031T235959
DTSTAMP:20260422T225638
CREATED:20251204T113828Z
LAST-MODIFIED:20251204T113829Z
UID:4034-1793404800-1793491199@desertsurvivors.org
SUMMARY:Day of the Dead/Halloween
DESCRIPTION:
URL:https://desertsurvivors.org/event/day-of-the-dead-halloween/
END:VEVENT
END:VCALENDAR